BEGIN:VCALENDAR
VERSION:2.0
PRODID:-//ChamberMaster//Event Calendar 2.0//EN
METHOD:PUBLISH
X-PUBLISHED-TTL:P3D
REFRESH-INTERVAL:P3D
CALSCALE:GREGORIAN
BEGIN:VEVENT
DTSTART:20251211T000000Z
DTEND:20251211T013000Z
X-MICROSOFT-CDO-ALLDAYEVENT:FALSE
SUMMARY:Rainbow Community Care Memorial Ornament Craft Night
DESCRIPTION:Join us for a meaningful evening of creativity and remembrance at the Rainbow Community Care Memorial Ornament Craft Night.\n\n \n\n\n\nWednesday\, December 10th from 6:00 pm   7:30 pm at the Rainbow Hospice Care Inpatient Center - Community Room (1225 Remmel Dr\, Johnson Creek).\n\n \n\n\n\nCreate a special ornament in memory of a loved one. Please bring a piece of meaningful fabric (such as part of a shirt) or a photo to craft with.\n\n \n\n\n\nSpace is limited - RSVP by calling (920) 674-6255. Older children are welcome but must be accompanied by a parent or guardian.
X-ALT-DESC;FMTTYPE=text/html:<div>\n<div>Join us for a meaningful evening of creativity and remembrance at the Rainbow Community Care Memorial Ornament Craft Night.<br />\n&nbsp\;</div>\n</div>\n\n<div>\n<div>Wednesday\, December 10th from 6:00 pm &ndash\; 7:30 pm at the Rainbow Hospice Care Inpatient Center - Community Room (1225 Remmel Dr\, Johnson Creek).<br />\n&nbsp\;</div>\n</div>\n\n<div>\n<div>Create a special ornament in memory of a loved one. Please bring a piece of meaningful fabric (such as part of a shirt) or a photo to craft with.<br />\n&nbsp\;</div>\n</div>\n\n<div>\n<div>Space is limited - RSVP by calling (920) 674-6255. Older children are welcome but must be accompanied by a parent or guardian.</div>\n</div>\n
LOCATION:Rainbow Hospice Care Inpatient Center 1225 Remmel Dr Johnson Creek\, WI 53038
UID:e.2671.9115
SEQUENCE:3
DTSTAMP:20260425T151114Z
URL:https://business.jeffersonchamberwi.com/events/details/rainbow-community-care-memorial-ornament-craft-night-9115
END:VEVENT

END:VCALENDAR
