BEGIN:VCALENDAR
VERSION:2.0
PRODID:-//ChamberMaster//Event Calendar 2.0//EN
METHOD:PUBLISH
X-PUBLISHED-TTL:P3D
REFRESH-INTERVAL:P3D
CALSCALE:GREGORIAN
BEGIN:VEVENT
DTSTART;VALUE=DATE:20230215
DTEND;VALUE=DATE:20230902
TRANSP:TRANSPARENT
X-MICROSOFT-CDO-ALLDAYEVENT:TRUE
SUMMARY:Rainbow Hospice Care would like to invite you to participate in our Second Annual Memorial Garden Celebration!
DESCRIPTION:Rainbow Hospice Care would like to invite you to participate in our Second Annual Memorial Garden Celebration!\n\n \n\nLast summer we unveiled a beautiful outdoor space at the Rainbow Hospice Care Inpatient Center in Johnson Creek that is dedicated to honoring special people in our lives. Some of these individuals are loved ones who have passed away. Others are notable men and women like Dr. Fred Gremmels and his wife\, Cindy\, who have made a lasting impact on our community.\n\n \n\nWith your help\, we have sold over 125 bricks\, five benches\, a pergola\, a fire pit\, and a water feature. To continue celebrating our Brick Memorial Garden\, we are asking for any orders to be placed by June 1st\, 2023. This will ensure Archie Monuments has enough time to engrave each brick order.\n\n \n\nThere are three ways to participate in this year's celebration:\n\n \n\n	Purchase a brick to honor or remember your loved one\n	Purchase a garden feature\n	Attend this  year's dedication ceremony in late August\n\n\n\nPlease click the below link to make an online purchase or donation\n\nBrick-by-Brick Labyrinth Campaign (ejoinme.org)
X-ALT-DESC;FMTTYPE=text/html:Rainbow Hospice Care would like to invite you to participate in our Second Annual Memorial Garden Celebration!<br />\n&nbsp\;<br />\nLast summer we unveiled a beautiful outdoor space at the Rainbow Hospice Care Inpatient Center in Johnson Creek that is dedicated to honoring special people in our lives. Some of these individuals are loved ones who have passed away. Others are notable men and women like Dr. Fred Gremmels and his wife\, Cindy\, who have made a lasting impact on our community.<br />\n&nbsp\;<br />\nWith your help\, we have sold over 125 bricks\, five benches\, a pergola\, a fire pit\, and a water feature. To continue celebrating our Brick Memorial Garden\, we are asking for any orders to be placed by June 1<sup>st</sup>\, 2023. This will ensure Archie Monuments has enough time to engrave each brick order.<br />\n&nbsp\;<br />\nThere are three ways to participate in this year&rsquo\;s celebration:<br />\n&nbsp\;\n<ol>\n	<li>Purchase a brick to honor or remember your loved one</li>\n	<li>Purchase a garden feature</li>\n	<li>Attend this&nbsp\; year&rsquo\;s dedication ceremony in late August</li>\n</ol>\n<br />\nPlease click the below link to make an online purchase or donation<br />\n<a href="https://rainbowhospicecare.ejoinme.org/MyPages/BrickbyBrickLabyrinthCampaign/tabid/1257127/Default.aspx">Brick-by-Brick Labyrinth Campaign (ejoinme.org)</a>
LOCATION:Rainbow Hospice Care Inpatient Center 1225 Remmel Dr. Johnson Creek\, WI 53094
UID:e.2671.5274
SEQUENCE:3
DTSTAMP:20260423T131552Z
URL:https://business.jeffersonchamberwi.com/events/details/rainbow-hospice-care-would-like-to-invite-you-to-participate-in-our-second-annual-memorial-garden-celebration-5274
END:VEVENT

END:VCALENDAR
