BEGIN:VCALENDAR
VERSION:2.0
PRODID:-//ChamberMaster//Event Calendar 2.0//EN
METHOD:PUBLISH
X-PUBLISHED-TTL:P3D
REFRESH-INTERVAL:P3D
CALSCALE:GREGORIAN
BEGIN:VEVENT
DTSTART:20250405T140000Z
DTEND:20250405T170000Z
X-MICROSOFT-CDO-ALLDAYEVENT:FALSE
SUMMARY:Rainbow Thrift Shoppe Volunteer & Donation Recruitment Event
DESCRIPTION:Rainbow Community Care is excited to announce the opening of its first-ever thrift store! \n\n \n\nThe "Rainbow Thrift Shoppe" will soon open at 905 Madison Avenue in Fort Atkinson\, sharing a building with American Wholesale Furniture. While the furniture retailer will continue to operate on the upper level\, the Rainbow Thrift Shoppe will occupy the lower level. We encourage our friends and neighbors to visit and discover some amazing deals at affordable prices! \n\n \n\nTo get the store up and running\, Rainbow Thrift Shoppe is seeking volunteers as well as donations of gently used\, clean\, and resalable items. Volunteers will assist with store operations\, sorting donations\, staging displays\, and stocking items. \n\n \n\nProceeds from the sale of donated goods will help improve the lives of patients and families served by Rainbow Community Care through its hospice\, palliative care\, advance care planning\, grief support\, parish nursing\, and volunteer programs. \n\n \n\nWe invite you to join us at one of our three volunteer and donation recruitment events: \n\n- Thursday\, April 3rd\, from 4 PM to 7 PM \n\n- Friday\, April 4th\, from 2 PM to 5 PM \n\n- Saturday\, April 5th\, from 9 AM to 12 PM \n\n \n\nIf you are interested in volunteering at the Rainbow Thrift Shoppe\, please contact our volunteer department at (920) 674-4548. \n\n \n\nWe are planning a soft opening on Monday\, April 14th\, from 10 AM to 6 PM\, followed by a grand opening on Monday\, April 28th\, from 10 AM to 6 PM. We hope to see you there! \n\n \n\nStay tuned for more information at RainbowThriftShoppe.org.
X-ALT-DESC;FMTTYPE=text/html:<div>Rainbow Community Care is excited to announce the opening of its first-ever thrift store!&nbsp\;</div>\n\n<div>&nbsp\;</div>\n\n<div>The &quot\;Rainbow Thrift Shoppe&quot\; will soon open at 905 Madison Avenue in Fort Atkinson\, sharing a building with American Wholesale Furniture. While the furniture retailer will continue to operate on the upper level\, the Rainbow Thrift Shoppe will occupy the lower level. We encourage our friends and neighbors to visit and discover some amazing deals at affordable prices!&nbsp\;</div>\n\n<div>&nbsp\;</div>\n\n<div>To get the store up and running\, Rainbow Thrift Shoppe is seeking volunteers as well as donations of gently used\, clean\, and resalable items. Volunteers will assist with store operations\, sorting donations\, staging displays\, and stocking items.&nbsp\;</div>\n\n<div>&nbsp\;</div>\n\n<div>Proceeds from the sale of donated goods will help improve the lives of patients and families served by Rainbow Community Care through its hospice\, palliative care\, advance care planning\, grief support\, parish nursing\, and volunteer programs.&nbsp\;</div>\n\n<div>&nbsp\;</div>\n\n<div>We invite you to join us at one of our three volunteer and donation recruitment events:&nbsp\;</div>\n\n<div>- Thursday\, April 3rd\, from 4 PM to 7 PM&nbsp\;</div>\n\n<div>- Friday\, April 4th\, from 2 PM to 5 PM&nbsp\;</div>\n\n<div>- Saturday\, April 5th\, from 9 AM to 12 PM&nbsp\;</div>\n\n<div>&nbsp\;</div>\n\n<div>If you are interested in volunteering at the Rainbow Thrift Shoppe\, please contact our volunteer department at (920) 674-4548.&nbsp\;</div>\n\n<div>&nbsp\;</div>\n\n<div>We are planning a soft opening on Monday\, April 14th\, from 10 AM to 6 PM\, followed by a grand opening on Monday\, April 28th\, from 10 AM to 6 PM. We hope to see you there!&nbsp\;</div>\n\n<div>&nbsp\;</div>\n\n<div>Stay tuned for more information at&nbsp\;<a href="https://nam10.safelinks.protection.outlook.com/?url=https%3A%2F%2Frainbowthriftshoppe.org%2F&amp\;data=05%7C02%7Cemy.miller%40RainbowHospicecare.org%7C8213c2aa8fed4c34bb8008dd5fdfbee8%7C3eaced260f704135b6f6db55911261c7%7C0%7C0%7C638772137753859283%7CUnknown%7CTWFpbGZsb3d8eyJFbXB0eU1hcGkiOnRydWUsIlYiOiIwLjAuMDAwMCIsIlAiOiJXaW4zMiIsIkFOIjoiTWFpbCIsIldUIjoyfQ%3D%3D%7C0%7C%7C%7C&amp\;sdata=gqfa4EJ1YF0sFBE1RJp5A4HKX8q1s3dE3DOqdAXHTUU%3D&amp\;reserved=0" id="LPlnk" style="border: 0px\; font: inherit\; margin: 0px\; padding: 0px\; vertical-align: baseline\;" title="Original URL: https://rainbowthriftshoppe.org/. Click or tap if you trust this link.">RainbowThriftShoppe.org</a>.</div>\n
LOCATION:Rainbow Thrift Shoppe 905 Madison Ave Fort Atkinson\, WI
UID:e.2671.8865
SEQUENCE:3
DTSTAMP:20260426T040803Z
URL:https://business.jeffersonchamberwi.com/events/details/rainbow-thrift-shoppe-volunteer-donation-recruitment-event-04-05-2025-8865
END:VEVENT

END:VCALENDAR
