BEGIN:VCALENDAR
VERSION:2.0
PRODID:-//ChamberMaster//Event Calendar 2.0//EN
METHOD:PUBLISH
X-PUBLISHED-TTL:P3D
REFRESH-INTERVAL:P3D
CALSCALE:GREGORIAN
BEGIN:VEVENT
DTSTART:20210828T130000Z
DTEND:20210828T220000Z
X-MICROSOFT-CDO-ALLDAYEVENT:FALSE
SUMMARY:Riverbend Ride for Autism 2021
DESCRIPTION:4th Annual Riverbend Ride for Autism\n\n\n\n$25 per Rider\n\n$40 Rider & Passenger\n\n\n\n50/50 Raffle & Prizes\n\n\n\nRegistration 8am - 9:30am (all riders must register)\n\nKickstands up 10am\n\n\n\nProceeds go to Autism Speaks
X-ALT-DESC;FMTTYPE=text/html:<strong><span style="font-size:20px\;">4th Annual Riverbend Ride for Autism</span></strong><br />\n<br />\n<span style="font-size:18px\;">$25 per Rider<br />\n$40 Rider &amp\; Passenger<br />\n<br />\n50/50 Raffle &amp\; Prizes<br />\n<br />\nRegistration 8am - 9:30am (all riders must register)<br />\nKickstands up 10am<br />\n<br />\nProceeds go to Autism Speaks</span><br />\n&nbsp\;
LOCATION:Start at River Bend RV Resort W6940 Rubidell Rd. Watertown\, WI
UID:e.2671.4287
SEQUENCE:3
DTSTAMP:20260424T165811Z
URL:https://business.jeffersonchamberwi.com/events/details/riverbend-ride-for-autism-2021-4287
END:VEVENT

END:VCALENDAR
