BEGIN:VCALENDAR
VERSION:2.0
PRODID:-//ChamberMaster//Event Calendar 2.0//EN
METHOD:PUBLISH
X-PUBLISHED-TTL:P3D
REFRESH-INTERVAL:P3D
CALSCALE:GREGORIAN
BEGIN:VEVENT
DTSTART:20221022T210000Z
DTEND:20221023T000000Z
X-MICROSOFT-CDO-ALLDAYEVENT:FALSE
SUMMARY:Rob’s Food & Wine Class
DESCRIPTION:Essential Food & Wine Education Class w/Winemaker Rob Lewis\n\n\n\nTHIS CLASS IS HELD IN THE WINE CELLAR AT STABLE ROCK WINERY IN JEFFERSON\, WI\n\n\n\nWe call this the "essential" food and wine class because it will be a jam packed 3 hours of learning all about wine including\; history\, terminology\, aging\, purchasing\, storing\, old world vs. new world\, wine making\, component tasting and food with 5 wines! This is a seriously fun and educational class!\n\n\n\nThis class will teach you "essentially" all you need to know to be a true wine connoisseur. You will be learning the science behind food & wine pairing\, so every meal going forward can be amazing!\n\n\n\n$ 65 pp. (Includes\; wine\, food) - MUST PURCHASE TICKETS PRIOR TO CLASS. Limited to 24 participants.\n\n\n\nYou're going to LOVE this Class!!! Make this a date day with your friends or significant other!\n\n\n\nClasses taught by Winemaker & Le Cordon Bleu Certified Sommelier Rob Lewis
X-ALT-DESC;FMTTYPE=text/html:Essential Food &amp\; Wine Education Class w/Winemaker Rob Lewis<br />\n<br />\nTHIS CLASS IS HELD IN THE WINE CELLAR AT STABLE ROCK WINERY IN JEFFERSON\, WI<br />\n<br />\nWe call this the &ldquo\;essential&rdquo\; food and wine class because it will be a jam packed 3 hours of learning all about wine including\; history\, terminology\, aging\, purchasing\, storing\, old world vs. new world\, wine making\, component tasting and food with 5 wines! This is a seriously fun and educational class!<br />\n<br />\nThis class will teach you &ldquo\;essentially&rdquo\; all you need to know to be a true wine connoisseur. You will be learning the science behind food &amp\; wine pairing\, so every meal going forward can be amazing!<br />\n<br />\n$ 65 pp. (Includes\; wine\, food) - MUST PURCHASE TICKETS PRIOR TO CLASS. Limited to 24 participants.<br />\n<br />\nYou&#39\;re going to LOVE this Class!!! Make this a date day with your friends or significant other!<br />\n<br />\nClasses taught by Winemaker &amp\; Le Cordon Bleu Certified Sommelier Rob Lewis
LOCATION:Stable Rock Winery 123 W. Milwaukee St. Jefferson
UID:e.2671.4899
SEQUENCE:3
DTSTAMP:20260423T202750Z
URL:https://business.jeffersonchamberwi.com/events/details/rob-s-food-wine-class-4899
END:VEVENT

END:VCALENDAR
