BEGIN:VCALENDAR
VERSION:2.0
PRODID:-//ChamberMaster//Event Calendar 2.0//EN
METHOD:PUBLISH
X-PUBLISHED-TTL:P3D
REFRESH-INTERVAL:P3D
CALSCALE:GREGORIAN
BEGIN:VEVENT
DTSTART:20230205T000000Z
DTEND:20230205T030000Z
X-MICROSOFT-CDO-ALLDAYEVENT:FALSE
SUMMARY:Rotary Beer & Wine Tasting 2023
DESCRIPTION:People of Action\n\npresents\n\n2023 Annual Beer & Wine Tasting\n\nFine wines\, craft beer\, wonderful hors d'oeurves and great music
X-ALT-DESC;FMTTYPE=text/html:People of Action<br />\npresents<br />\n<span style="font-size:20px\;"><strong>2023 Annual Beer &amp\; Wine Tasting</strong></span><br />\nFine wines\, craft beer\, wonderful hors d&#39\;oeurves and great music
LOCATION:Jefferson County Fair Park Activity Center 503 N. Jackson Avenue Jefferson
UID:e.2671.5035
SEQUENCE:3
DTSTAMP:20260423T142856Z
URL:https://business.jeffersonchamberwi.com/events/details/rotary-beer-wine-tasting-2023-5035
END:VEVENT

END:VCALENDAR
