BEGIN:VCALENDAR
VERSION:2.0
PRODID:-//ChamberMaster//Event Calendar 2.0//EN
METHOD:PUBLISH
X-PUBLISHED-TTL:P3D
REFRESH-INTERVAL:P3D
CALSCALE:GREGORIAN
BEGIN:VEVENT
DTSTART:20210508T180000Z
DTEND:20210508T230000Z
X-MICROSOFT-CDO-ALLDAYEVENT:FALSE
SUMMARY:Rotary Park Opening
DESCRIPTION:Head on down to Rotary Park for this year's Grand Opening! It's time to start getting ready for the summer\, so let's kick things off for an afternoon of music and fun in the park with award-winning band THE PLAYLIST bringing its signature mixtape of party hits. \n\n\n\nFREE ADMISSION! Food & beverage will be available!\n\n\n\n1-6pm  | Car & Bike Show\n\n1-2-5:30pm  |  Live music from The Playlist\n\n\n\nSponsored by the Friends of Goat Island\, the City of Jefferson and the Jefferson Collectibles Car Club
X-ALT-DESC;FMTTYPE=text/html:Head on down to Rotary Park for this year&#39\;s Grand Opening! It&#39\;s time to start getting ready for the summer\, so let&#39\;s kick things off for an afternoon of music and fun in the park with award-winning band THE PLAYLIST bringing its signature mixtape of party hits.&nbsp\;<br />\n<br />\nFREE ADMISSION! Food &amp\; beverage will be available!<br />\n<br />\n1-6pm&nbsp\; |&nbsp\;Car &amp\; Bike Show<br />\n1-2-5:30pm&nbsp\; |&nbsp\; Live music from The Playlist<br />\n<br />\nSponsored by the Friends of Goat Island\, the City of Jefferson and the Jefferson Collectibles Car Club&nbsp\;
LOCATION:Rotary Park\, Jefferson\, WI
UID:e.2671.4247
SEQUENCE:3
DTSTAMP:20260424T225556Z
URL:https://business.jeffersonchamberwi.com/events/details/rotary-park-opening-4247
END:VEVENT

END:VCALENDAR
