BEGIN:VCALENDAR
VERSION:2.0
PRODID:-//ChamberMaster//Event Calendar 2.0//EN
METHOD:PUBLISH
X-PUBLISHED-TTL:P3D
REFRESH-INTERVAL:P3D
CALSCALE:GREGORIAN
BEGIN:VEVENT
DTSTART:20251211T220000Z
DTEND:20251211T233000Z
X-MICROSOFT-CDO-ALLDAYEVENT:FALSE
SUMMARY:Santa is Coming to Town
DESCRIPTION:Santa will be at Badger Bank to take all your Christmas wishes! Visit with Santa and Mrs.Claus.
X-ALT-DESC;FMTTYPE=text/html:Santa will be at Badger Bank to take all your Christmas wishes! Visit with Santa and Mrs.Claus.&nbsp\;
LOCATION:1003 W. Main St
UID:e.2671.9110
SEQUENCE:3
DTSTAMP:20260425T151238Z
URL:https://business.jeffersonchamberwi.com/events/details/santa-is-coming-to-town-12-11-2025-9110
END:VEVENT

END:VCALENDAR
