BEGIN:VCALENDAR
VERSION:2.0
PRODID:-//ChamberMaster//Event Calendar 2.0//EN
METHOD:PUBLISH
X-PUBLISHED-TTL:P3D
REFRESH-INTERVAL:P3D
CALSCALE:GREGORIAN
BEGIN:VEVENT
DTSTART:20250624T190000Z
DTEND:20250624T200000Z
X-MICROSOFT-CDO-ALLDAYEVENT:FALSE
SUMMARY:Science Heroes at the Jefferson Public Library
DESCRIPTION:Adventure of the Missing Color... Join Science Heroes for an exciting STEM adventure filled with hands-on experiments! Explore chemical reactions\, air pressure\, physical explosions\, and more in this fun\, interactive science experience. Located in the Library Meeting Room.
X-ALT-DESC;FMTTYPE=text/html:Adventure of the Missing Color... Join Science Heroes for an exciting STEM adventure filled with hands-on experiments! Explore chemical reactions\, air pressure\, physical explosions\, and more in this fun\, interactive science experience. Located in the Library Meeting Room.
LOCATION:
UID:e.2671.8953
SEQUENCE:3
DTSTAMP:20260426T000607Z
URL:https://business.jeffersonchamberwi.com/events/details/science-heroes-at-the-jefferson-public-library-8953
END:VEVENT

END:VCALENDAR
