BEGIN:VCALENDAR
VERSION:2.0
PRODID:-//ChamberMaster//Event Calendar 2.0//EN
METHOD:PUBLISH
X-PUBLISHED-TTL:P3D
REFRESH-INTERVAL:P3D
CALSCALE:GREGORIAN
BEGIN:VEVENT
DTSTART:20260108T153000Z
DTEND:20260108T163000Z
X-MICROSOFT-CDO-ALLDAYEVENT:FALSE
SUMMARY:Shine Storytime
DESCRIPTION:Join us for storytime plus a craft\, playtime\, and coffee for moms and caregivers. Kids get a snack to go.
X-ALT-DESC;FMTTYPE=text/html:Join us for storytime plus a craft\, playtime\, and coffee for moms and caregivers. Kids get a snack to go.
LOCATION:Shine Realty Office 101 N. Main St. Jefferson
UID:e.2671.9321
SEQUENCE:3
DTSTAMP:20260425T133439Z
URL:https://business.jeffersonchamberwi.com/events/details/shine-storytime-01-08-2026-9321
END:VEVENT

END:VCALENDAR
