BEGIN:VCALENDAR
VERSION:2.0
PRODID:-//ChamberMaster//Event Calendar 2.0//EN
METHOD:PUBLISH
X-PUBLISHED-TTL:P3D
REFRESH-INTERVAL:P3D
CALSCALE:GREGORIAN
BEGIN:VEVENT
DTSTART:20260212T153000Z
DTEND:20260212T163000Z
X-MICROSOFT-CDO-ALLDAYEVENT:FALSE
SUMMARY:Shine Storytime
DESCRIPTION:Join us for a story\, crafts\, playtime and a to go snack. Coffee for moms and caregivers. Free event.
X-ALT-DESC;FMTTYPE=text/html:Join us for a story\, crafts\, playtime and a to go snack. Coffee for moms and caregivers. Free event.
LOCATION:Shine Realty 101 N. Main St.\, Jefferson
UID:e.2671.9369
SEQUENCE:3
DTSTAMP:20260425T103317Z
URL:https://business.jeffersonchamberwi.com/events/details/shine-storytime-02-12-2026-9369
END:VEVENT

END:VCALENDAR
