BEGIN:VCALENDAR
VERSION:2.0
PRODID:-//ChamberMaster//Event Calendar 2.0//EN
METHOD:PUBLISH
X-PUBLISHED-TTL:P3D
REFRESH-INTERVAL:P3D
CALSCALE:GREGORIAN
BEGIN:VEVENT
DTSTART:20250508T143000Z
DTEND:20250508T153000Z
X-MICROSOFT-CDO-ALLDAYEVENT:FALSE
SUMMARY:Shine Storytime
DESCRIPTION:Join us for crafts\, fun\, and of course a story. Coffee for moms/caretakers. Geared towards birth-4k children. This month we will be reading the book "The Carrot Seed."
X-ALT-DESC;FMTTYPE=text/html:Join us for crafts\, fun\, and of course a story. Coffee for moms/caretakers. Geared towards birth-4k children. This month we will be reading the book &quot\;The Carrot Seed.&quot\;
LOCATION:Shine Realty Office - Jefferson 101 N. Main St.
UID:e.2671.8884
SEQUENCE:3
DTSTAMP:20260426T012622Z
URL:https://business.jeffersonchamberwi.com/events/details/shine-storytime-05-08-2025-8884
END:VEVENT

END:VCALENDAR
