BEGIN:VCALENDAR
VERSION:2.0
PRODID:-//ChamberMaster//Event Calendar 2.0//EN
METHOD:PUBLISH
X-PUBLISHED-TTL:P3D
REFRESH-INTERVAL:P3D
CALSCALE:GREGORIAN
BEGIN:VEVENT
DTSTART:20250618T143000Z
DTEND:20250618T153000Z
X-MICROSOFT-CDO-ALLDAYEVENT:FALSE
SUMMARY:Shine Storytime
DESCRIPTION:Shine Storytime outside @ St. Paul for the summer. Join us for a story\, crafts\, playtime and a snack. Coffee for moms and caretakers.
X-ALT-DESC;FMTTYPE=text/html:Shine Storytime outside @ St. Paul for the summer. Join us for a story\, crafts\, playtime and a snack. Coffee for moms and caretakers.
LOCATION:St. Paul Church and school outdoor preschool playground - Lake Mills
UID:e.2671.8943
SEQUENCE:3
DTSTAMP:20260426T000621Z
URL:https://business.jeffersonchamberwi.com/events/details/shine-storytime-06-18-2025-8943
END:VEVENT

END:VCALENDAR
