BEGIN:VCALENDAR
VERSION:2.0
PRODID:-//ChamberMaster//Event Calendar 2.0//EN
METHOD:PUBLISH
X-PUBLISHED-TTL:P3D
REFRESH-INTERVAL:P3D
CALSCALE:GREGORIAN
BEGIN:VEVENT
DTSTART:20250911T143000Z
DTEND:20250911T153000Z
X-MICROSOFT-CDO-ALLDAYEVENT:FALSE
SUMMARY:Shine Storytime
DESCRIPTION:Join us for a story along with crafts\, playtime and some coffee for mom/caregivers. Children receive a snack to go at the end.
X-ALT-DESC;FMTTYPE=text/html:Join us for a story along with crafts\, playtime and some coffee for mom/caregivers. Children receive a snack to go at the end.
LOCATION:Shine Realty 101 N. Main St. Jefferson
UID:e.2671.9041
SEQUENCE:3
DTSTAMP:20260425T181825Z
URL:https://business.jeffersonchamberwi.com/events/details/shine-storytime-09-11-2025-9041
END:VEVENT

END:VCALENDAR
