BEGIN:VCALENDAR
VERSION:2.0
PRODID:-//ChamberMaster//Event Calendar 2.0//EN
METHOD:PUBLISH
X-PUBLISHED-TTL:P3D
REFRESH-INTERVAL:P3D
CALSCALE:GREGORIAN
BEGIN:VEVENT
DTSTART:20251009T143000Z
DTEND:20251009T153000Z
X-MICROSOFT-CDO-ALLDAYEVENT:FALSE
SUMMARY:Shine Storytime
DESCRIPTION:Join us for a story\, crafts and play as well as coffee for the moms/caregiver. Children receive a snack to go at the end.
X-ALT-DESC;FMTTYPE=text/html:Join us for a story\, crafts and play as well as coffee for the moms/caregiver. Children receive a snack to go at the end.
LOCATION:Shine Realty 101 N. Main St. Jefferson
UID:e.2671.9042
SEQUENCE:3
DTSTAMP:20260425T164453Z
URL:https://business.jeffersonchamberwi.com/events/details/shine-storytime-10-09-2025-9042
END:VEVENT

END:VCALENDAR
