BEGIN:VCALENDAR
VERSION:2.0
PRODID:-//ChamberMaster//Event Calendar 2.0//EN
METHOD:PUBLISH
X-PUBLISHED-TTL:P3D
REFRESH-INTERVAL:P3D
CALSCALE:GREGORIAN
BEGIN:VEVENT
DTSTART:20251211T153000Z
DTEND:20251211T163000Z
X-MICROSOFT-CDO-ALLDAYEVENT:FALSE
SUMMARY:Shine Storytime
DESCRIPTION:Join us for playtime\, crafts\, a story and a to go snack. Coffee for moms and caregivers.
X-ALT-DESC;FMTTYPE=text/html:Join us for playtime\, crafts\, a story and a to go snack. Coffee for moms and caregivers.
LOCATION:Shine Realty - Jefferson Office 101 N. Main St.
UID:e.2671.9109
SEQUENCE:3
DTSTAMP:20260425T134139Z
URL:https://business.jeffersonchamberwi.com/events/details/shine-storytime-12-11-2025-9109
END:VEVENT

END:VCALENDAR
