BEGIN:VCALENDAR
VERSION:2.0
PRODID:-//ChamberMaster//Event Calendar 2.0//EN
METHOD:PUBLISH
X-PUBLISHED-TTL:P3D
REFRESH-INTERVAL:P3D
CALSCALE:GREGORIAN
BEGIN:VEVENT
DTSTART:20200822T140000Z
DTEND:20200822T170000Z
X-MICROSOFT-CDO-ALLDAYEVENT:FALSE
SUMMARY:Shred Event
DESCRIPTION:Member security is more important to us than ever! We invite members to visit the branches specified below to safely shred their confidential documents. \n\n\n	August 22nd: Jefferson Branch\, 100 N Main Street from 9:00am - 12pm \n\nOther dates and times: \n\n\n	October 17th: Watertown Branch\, 633 S Church Street from 9:00am - 12pm
X-ALT-DESC;FMTTYPE=text/html:<p>Member security is more important to us than ever! We invite members to visit the branches specified below to safely shred their confidential documents.&nbsp\;</p>\n\n<ul>\n	<li>August 22nd: Jefferson Branch\, 100 N Main Street from 9:00am - 12pm&nbsp\;</li>\n</ul>\nOther dates and times:&nbsp\;\n\n<ul>\n	<li>October 17th: Watertown Branch\, 633 S Church Street from 9:00am - 12pm&nbsp\;</li>\n</ul>\n
LOCATION:100 N Main Street Jefferson WI 53549
UID:e.2671.3994
SEQUENCE:3
DTSTAMP:20260425T111010Z
URL:https://business.jeffersonchamberwi.com/events/details/shred-event-08-22-2020-3994
END:VEVENT

END:VCALENDAR
