BEGIN:VCALENDAR
VERSION:2.0
PRODID:-//ChamberMaster//Event Calendar 2.0//EN
METHOD:PUBLISH
X-PUBLISHED-TTL:P3D
REFRESH-INTERVAL:P3D
CALSCALE:GREGORIAN
BEGIN:VEVENT
DTSTART:20210717T140000Z
DTEND:20210717T170000Z
X-MICROSOFT-CDO-ALLDAYEVENT:FALSE
SUMMARY:Shred Event at FCCU
DESCRIPTION:Fort Community Credit Union (FCCU) and Shred-It have partnered together to host on-site document destruction events to help their members and communities shred the threat of identity theft. \n\n \n\n"We consider the security of our members and communities a priority\," said Sue Johnson\, CEO of FCCU.  "Fraud and identity theft cases are on the rise nationally\, and we want to do our part to help our communities protect their interests.  Our Shred Events make it convenient for our community members to shred personal and confidential documents\, which is a crucial component of preventative security."\n\n \n\nShred Event dates and times are listed below for each FCCU branch location: \n\n \n\n	Saturday\, April 10\, 2021- 9:00 a.m. to 12:00 p.m. at the Fort Main Branch located at 800 Madison Avenue\, Fort Atkinson\n	Saturday\, May 8\, 2021- 9:00 a.m. to 12:00 p.m. at the FCCU Whitewater Branch located at 203 E. Milwaukee Street\, Whitewater\n	Saturday\, July 17\, 2021- 9:00 a.m. to 12:00 p.m. at the FCCU Jefferson Branch located at 100 N. Main Street\, Jefferson\n	Saturday\, August 14\, 2021- 9:00 a.m. to 12:00 p.m. at the FCCU Watertown Branch located at 633 S. Church Street\, Watertown\n\n \n\nConfidential documents can be brought to each FCCU branch on the day of the event at the noted times\; there is a limit of two (2) boxes per household. FCCU representatives will be on site to assist with the transfer of documents and to aid in social distancing efforts.
X-ALT-DESC;FMTTYPE=text/html:<span style="font-family:lao ui\,sans-serif"><span style="font-size:11.0pt">Fort Community Credit Union (FCCU) and Shred-It have partnered together to host on-site document destruction events to help their members and communities shred the threat of identity theft. </span></span><br />\n&nbsp\;<br />\n<span style="font-family:lao ui\,sans-serif"><span style="font-size:11.0pt">&ldquo\;We consider the security of our members and communities a priority\,&rdquo\; said Sue Johnson\, CEO of FCCU. &nbsp\;&ldquo\;Fraud and identity theft cases are on the rise nationally\, and we want to do our part to help our communities protect their interests. &nbsp\;Our Shred Events make it convenient for our community members to shred personal and confidential documents\, which is a crucial component of preventative security.&rdquo\;</span></span><br />\n&nbsp\;<br />\n<span style="font-family:lao ui\,sans-serif"><span style="font-size:11.0pt">Shred Event dates and times are listed below for each FCCU branch location: </span></span><br />\n&nbsp\;\n<ul>\n	<li><strong><span style="font-family:lao ui\,sans-serif"><span style="font-size:11.0pt">Saturday\, April 10\, 2021</span></span></strong><span style="font-family:lao ui\,sans-serif"><span style="font-size:11.0pt">- 9:00 a.m. to 12:00 p.m. at the Fort Main Branch located at 800 Madison Avenue\, Fort Atkinson</span></span></li>\n	<li><strong><span style="font-family:lao ui\,sans-serif"><span style="font-size:11.0pt">Saturday\, May 8\, 2021</span></span></strong><span style="font-family:lao ui\,sans-serif"><span style="font-size:11.0pt">- 9:00 a.m. to 12:00 p.m. at the FCCU Whitewater Branch located at 203 E. Milwaukee Street\, Whitewater</span></span></li>\n	<li><strong><span style="font-family:lao ui\,sans-serif"><span style="font-size:11.0pt"><span style="background-color:#FFFF00">Saturday\, July 17\, 2021</span></span></span></strong><span style="font-family:lao ui\,sans-serif"><span style="font-size:11.0pt"><span style="background-color:#FFFF00">- 9:00 a.m. to 12:00 p.m. at the FCCU Jefferson Branch located at 100 N. Main Street\, Jefferson</span></span></span></li>\n	<li><strong><span style="font-family:lao ui\,sans-serif"><span style="font-size:11.0pt">Saturday\, August 14\, 2021</span></span></strong><span style="font-family:lao ui\,sans-serif"><span style="font-size:11.0pt">- 9:00 a.m. to 12:00 p.m. at the FCCU Watertown Branch located at 633 S. Church Street\, Watertown</span></span></li>\n</ul>\n&nbsp\;<br />\n<span style="font-family:lao ui\,sans-serif"><span style="font-size:11.0pt">Confidential documents can be brought to each FCCU branch on the day of the event at the noted times\; there is a limit of two (2) boxes per household. FCCU representatives will be on site to assist with the transfer of documents and to aid in social distancing efforts.</span></span><br />\n&nbsp\;
LOCATION:FCCU Jefferson 100 N Main Street
UID:e.2671.4243
SEQUENCE:3
DTSTAMP:20260424T182153Z
URL:https://business.jeffersonchamberwi.com/events/details/shred-event-at-fccu-4243
END:VEVENT

END:VCALENDAR
