BEGIN:VCALENDAR
VERSION:2.0
PRODID:-//ChamberMaster//Event Calendar 2.0//EN
METHOD:PUBLISH
X-PUBLISHED-TTL:P3D
REFRESH-INTERVAL:P3D
CALSCALE:GREGORIAN
BEGIN:VEVENT
DTSTART:20220911T173000Z
DTEND:20220911T220000Z
X-MICROSOFT-CDO-ALLDAYEVENT:FALSE
SUMMARY:SJB Annual Golf Outing
DESCRIPTION:Join St. John Baptist Church for 13 hole scramble golf event with a meal at SJB School. Four person teams\, individuals will be placed on a team.
X-ALT-DESC;FMTTYPE=text/html:Join St. John Baptist Church for 13 hole scramble golf event with a meal at SJB School. Four person teams\, individuals will be placed on a team.&nbsp\;
LOCATION:Jefferson Golf Course 216 Golf Dr Jefferson\, WI 53549
UID:e.2671.4824
SEQUENCE:3
DTSTAMP:20260423T220531Z
URL:https://business.jeffersonchamberwi.com/events/details/sjb-annual-golf-outing-4824
END:VEVENT

END:VCALENDAR
