BEGIN:VCALENDAR
VERSION:2.0
PRODID:-//ChamberMaster//Event Calendar 2.0//EN
METHOD:PUBLISH
X-PUBLISHED-TTL:P3D
REFRESH-INTERVAL:P3D
CALSCALE:GREGORIAN
BEGIN:VEVENT
DTSTART:20250716T200000Z
DTEND:20250716T210000Z
X-MICROSOFT-CDO-ALLDAYEVENT:FALSE
SUMMARY:Snacks in the Stacks
DESCRIPTION:Drop by the Adult Fiction area to have a snack and get book recommendations from a librarian. Tuesday August 12 at 11AM Wednesday August 13 at 3PM
X-ALT-DESC;FMTTYPE=text/html:Drop by the Adult Fiction area to have a snack and get book recommendations from a librarian. Tuesday August 12 at 11AM Wednesday August 13 at 3PM
LOCATION:
UID:e.2671.8959
SEQUENCE:3
DTSTAMP:20260425T223353Z
URL:https://business.jeffersonchamberwi.com/events/details/snacks-in-the-stacks-07-16-2025-8959
END:VEVENT

END:VCALENDAR
