BEGIN:VCALENDAR
VERSION:2.0
PRODID:-//ChamberMaster//Event Calendar 2.0//EN
METHOD:PUBLISH
X-PUBLISHED-TTL:P3D
REFRESH-INTERVAL:P3D
CALSCALE:GREGORIAN
BEGIN:VEVENT
DTSTART:20210327T140000Z
DTEND:20210327T170000Z
X-MICROSOFT-CDO-ALLDAYEVENT:FALSE
SUMMARY:Spring Cleanup Days at the Jefferson County Dog Park
DESCRIPTION:Come to the Area 1 parking lot to pick up gloves and bags\, then head off to the area of your choice! Don't forget Areas 2\, 3\, and 4-- they are often overlooked!\n\n\n\nRain Date: April 3rd\n\n\n\nContact the Friends of Jefferson County Dog Park Facebook page or email dogpark@jeffersoncountywi.gov
X-ALT-DESC;FMTTYPE=text/html:Come to the Area 1 parking lot to pick up gloves and bags\, then head off to the area of your choice! Don&#39\;t forget Areas 2\, 3\, and 4-- they are often overlooked!<br />\n<br />\nRain Date: April 3rd<br />\n<br />\nContact the Friends of Jefferson County Dog Park Facebook page or email dogpark@jeffersoncountywi.gov
LOCATION:Jefferson County Dog Park
UID:e.2671.4240
SEQUENCE:3
DTSTAMP:20260425T002008Z
URL:https://business.jeffersonchamberwi.com/events/details/spring-cleanup-days-at-the-jefferson-county-dog-park-4240
END:VEVENT

END:VCALENDAR
