BEGIN:VCALENDAR
VERSION:2.0
PRODID:-//ChamberMaster//Event Calendar 2.0//EN
METHOD:PUBLISH
X-PUBLISHED-TTL:P3D
REFRESH-INTERVAL:P3D
CALSCALE:GREGORIAN
BEGIN:VEVENT
DTSTART:20220422T150000Z
DTEND:20220424T200000Z
X-MICROSOFT-CDO-ALLDAYEVENT:FALSE
SUMMARY:Spring Jefferson Swap Meet & Car Show
DESCRIPTION:45th Annual Spring Jefferson Auto Swap Meet & Car Show\n\n\n\nThe Madison Classic's Spring Jefferson Car Show and Auto Swap Meet is one of the largest car shows in the Midwest! For the auto enthusiasts this swap meet boasts thousands of car parts and car accessory vendors making it a great place to buy or sell those hard to find car parts. For those looking to buy or sell cars\, the Cars for Sale Corral is full of 100's of cars of all makes and models for sale! You are sure to find great bargains on awesome cars\, car parts\, and car accessories at the Spring Jefferson Swap Meet and Car Show!\n\nOur 45th annual Spring Jefferson Swap Meet & Car Show will be held April 22-24\, 2022 at the Jefferson County Fair Park located just off Hwy 18 at 503 North Jackson Ave. in Jefferson\, WI.\n\nThe featured vehicle will be 60's Muscle Cars\; however\, all makes and models of show vehicles are welcome.\n\nHours:\n\nFri. 10am - 6 pm\n\nSat. 6am - 4pm\n\nSun. 6am -3 pm\n\n\n\nFor more information visit madisonclassics.com \n\n\nFacebook Event Page
X-ALT-DESC;FMTTYPE=text/html:<h1 color:="" font-size:="" letter-spacing:="" line-height:="" margin-bottom:="" margin-top:="" titillium=""><strong>45th Annual Spring Jefferson Auto Swap Meet &amp\; Car Show</strong></h1>\n\n<p titillium=""><br />\n<span style="font-size:18px\;"><span style="font-family:verdana\;">The Madison Classic&rsquo\;s Spring Jefferson Car Show and Auto Swap Meet is one of the largest car shows in the Midwest! For the auto enthusiasts this swap meet boasts thousands of car parts and car accessory vendors making it a great place to buy or sell those hard to find car parts. For those looking to buy or sell cars\, the Cars for Sale Corral is full of 100&rsquo\;s of cars of all makes and models for sale! You are sure to find great bargains on awesome cars\, car parts\, and car accessories at the Spring Jefferson Swap Meet and Car Show!</span></span></p>\n\n<p titillium=""><span style="font-size:18px\;"><span style="font-family:verdana\;">Our 45th annual Spring Jefferson Swap Meet &amp\; Car Show will be held April 22-24\, 2022&nbsp\;at the Jefferson County Fair Park located just off Hwy 18 at 503 North Jackson Ave. in Jefferson\, WI.</span></span></p>\n\n<p titillium=""><span style="font-size:18px\;"><span style="font-family:verdana\;">The featured vehicle will be 60&#39\;s Muscle Cars\; however\, all makes and models of show vehicles are welcome.</span></span></p>\n\n<p><span style="font-family:verdana\;"><span style="font-size:18px\;"><span segoe="" style="color: rgb(5\, 5\, 5)\; font-family: " ui=""><strong>Hours:<br />\nFri. 10am - 6 pm<br />\nSat. 6am - 4pm<br />\nSun. 6am -3 pm</strong><br />\n<br />\nFor more information<strong>&nbsp\;</strong>visit</span><span style="color:#0000FF\;"><span segoe="" ui="">&nbsp\;</span></span><a class="oajrlxb2 g5ia77u1 qu0x051f esr5mh6w e9989ue4 r7d6kgcz rq0escxv nhd2j8a9 nc684nl6 p7hjln8o kvgmc6g5 cxmmr5t8 oygrvhab hcukyx3x jb3vyjys rz4wbd8a qt6c0cv9 a8nywdso i1ao9s8h esuyzwwr f1sip0of lzcic4wl py34i1dx gpro0wi8" font-size:="" href="https://madisonclassics.com" rel="nofollow noopener" role="link" segoe="" style="color: var(--blue-link)\; cursor: pointer\; text-decoration-line: none\; outline: none\; list-style: none\; border-width: 0px\; border-style: initial\; border-color: initial\; padding: 0px\; margin: 0px\; touch-action: manipulation\; display: inline\; -webkit-tap-highlight-color: transparent\; box-sizing: border-box\; font-family: " tabindex="0" target="_blank" ui=""><span style="color:#0000FF\;">madisonclassics.com</span></a><span segoe="" style="color: rgb(5\, 5\, 5)\; font-family: " ui="">&nbsp\;</span></span></span></p>\n<br />\n<span style="font-family:verdana\;"><span style="font-size:18px\;"><a href="https://www.facebook.com/events/1001776754013597"><span segoe="" ui=""><span style="color:#0000FF\;">Facebook Event Page</span></span></a></span></span>
LOCATION:Jefferson County Fair Park
UID:e.2671.4735
SEQUENCE:3
DTSTAMP:20260424T050204Z
URL:https://business.jeffersonchamberwi.com/events/details/spring-jefferson-swap-meet-car-show-4735
END:VEVENT

END:VCALENDAR
