BEGIN:VCALENDAR
VERSION:2.0
PRODID:-//ChamberMaster//Event Calendar 2.0//EN
METHOD:PUBLISH
X-PUBLISHED-TTL:P3D
REFRESH-INTERVAL:P3D
CALSCALE:GREGORIAN
BEGIN:VEVENT
DTSTART:20221030T183000Z
DTEND:20221030T220000Z
X-MICROSOFT-CDO-ALLDAYEVENT:FALSE
SUMMARY:St John's Trunk or Treat
DESCRIPTION:St. John's Lutheran\n\nTrunk or Treat\n\nCandy - Hot dogs - Hay Bale Maze
X-ALT-DESC;FMTTYPE=text/html:St. John&#39\;s Lutheran<br />\nTrunk or Treat<br />\nCandy - Hot dogs - Hay Bale Maze
LOCATION:St. John's Lutheran 232 E.Church St Jefferson\, WI 53549
UID:e.2671.4904
SEQUENCE:3
DTSTAMP:20260423T202754Z
URL:https://business.jeffersonchamberwi.com/events/details/st-john-s-trunk-or-treat-4904
END:VEVENT

END:VCALENDAR
