BEGIN:VCALENDAR
VERSION:2.0
PRODID:-//ChamberMaster//Event Calendar 2.0//EN
METHOD:PUBLISH
X-PUBLISHED-TTL:P3D
REFRESH-INTERVAL:P3D
CALSCALE:GREGORIAN
BEGIN:VEVENT
DTSTART:20221030T210000Z
DTEND:20221030T230000Z
X-MICROSOFT-CDO-ALLDAYEVENT:FALSE
SUMMARY:St . Mark's to Host GriefShare Seminar
DESCRIPTION:St Mark's Lutheran Church in Jefferson along with Olsen Gibson funeral home is sponsoring a GriefShare  grief recovery seminar and support group.\n\n\n\nGriefShare  features nationally recognized experts on grief recovery topics. Seminar sessions include "Is This Normal?" "The Challenges of Grief\," "Grief and Your Relationships\," "Why?" and "Guilt and Anger."\n\n\n\n The 1    hour sessions will be held Wednesday and Sunday evenings beginning Wednesday October 5 for 13 sessions ending Wednesday November 16. Wednesday sessions begin at 5:30 and Sunday sessions begin at 4:00.
X-ALT-DESC;FMTTYPE=text/html:St Mark&rsquo\;s Lutheran Church in Jefferson along with Olsen Gibson funeral home is sponsoring a GriefShare&reg\; grief recovery seminar and support group.<br />\n<br />\nGriefShare&reg\; features nationally recognized experts on grief recovery topics. Seminar sessions include &ldquo\;Is This Normal?&rdquo\; &ldquo\;The Challenges of Grief\,&rdquo\; &ldquo\;Grief and Your Relationships\,&rdquo\; &ldquo\;Why?&rdquo\; and &ldquo\;Guilt and Anger.&rdquo\;<br />\n<br />\n&nbsp\;The 1 &frac34\;&nbsp\; hour sessions will be held Wednesday and Sunday evenings beginning Wednesday October 5 for 13 sessions ending Wednesday November 16. Wednesday sessions begin at 5:30 and Sunday sessions begin at 4:00.<br />\n<br />\n<br />\n&nbsp\;
LOCATION:St. Mark Lutheran Church 324 South Sanborn Avenue Jefferson\, WI 53549
UID:e.2671.4851
SEQUENCE:3
DTSTAMP:20260423T202107Z
URL:https://business.jeffersonchamberwi.com/events/details/st-mark-s-to-host-griefshare-seminar-4851
END:VEVENT

END:VCALENDAR
