BEGIN:VCALENDAR
VERSION:2.0
PRODID:-//ChamberMaster//Event Calendar 2.0//EN
METHOD:PUBLISH
X-PUBLISHED-TTL:P3D
REFRESH-INTERVAL:P3D
CALSCALE:GREGORIAN
BEGIN:VEVENT
DTSTART:20250625T133000Z
DTEND:20250626T210000Z
X-MICROSOFT-CDO-ALLDAYEVENT:FALSE
SUMMARY:STEM Camp: A Mix of Anatomy & Technology
DESCRIPTION:Grades 7-12 This camp explores the anatomy of the heart\, lungs\, and brain through hands-on activities with 3D printing and laser cutting technology. Participants dive into detailed lessons on the structure and function of these vital organs\, discussing related health topics and common diseases. They will use CAD software to design 3D models of the heart and brain and operate a 3D printer to bring their creations to life. Campers will assemble and paint their models to highlight anatomical features. The camp blends science and technology while offering an introduction to medical and engineering concepts.
X-ALT-DESC;FMTTYPE=text/html:Grades 7-12 This camp explores the anatomy of the heart\, lungs\, and brain through hands-on activities with 3D printing and laser cutting technology. Participants dive into detailed lessons on the structure and function of these vital organs\, discussing related health topics and common diseases. They will use CAD software to design 3D models of the heart and brain and operate a 3D printer to bring their creations to life. Campers will assemble and paint their models to highlight anatomical features. The camp blends science and technology while offering an introduction to medical and engineering concepts.
LOCATION:Madison College - Watertown 1300 W. Main Street
UID:e.2671.8930
SEQUENCE:3
DTSTAMP:20260426T000619Z
URL:https://business.jeffersonchamberwi.com/events/details/stem-camp-a-mix-of-anatomy-technology-8930
END:VEVENT

END:VCALENDAR
