BEGIN:VCALENDAR
VERSION:2.0
PRODID:-//ChamberMaster//Event Calendar 2.0//EN
METHOD:PUBLISH
X-PUBLISHED-TTL:P3D
REFRESH-INTERVAL:P3D
CALSCALE:GREGORIAN
BEGIN:VEVENT
DTSTART:20220914T150000Z
DTEND:20220914T154500Z
X-MICROSOFT-CDO-ALLDAYEVENT:FALSE
SUMMARY:Storytime
DESCRIPTION:Jefferson Public Library. Library Meeting Room. Sept. 14\, 21 & 28. 10-10:45am. Join us for songs\, stories and movement. Craft time will follow each session. Best for those aged 2-5 with their caregivers.
X-ALT-DESC;FMTTYPE=text/html:Jefferson Public Library. Library Meeting Room. Sept. 14\, 21 &amp\; 28. 10-10:45am. Join us for songs\, stories and movement. Craft time will follow each session. Best for those aged 2-5 with their caregivers.
LOCATION:
UID:e.2671.4825
SEQUENCE:3
DTSTAMP:20260423T220506Z
URL:https://business.jeffersonchamberwi.com/events/details/storytime-4825
END:VEVENT

END:VCALENDAR
