BEGIN:VCALENDAR
VERSION:2.0
PRODID:-//ChamberMaster//Event Calendar 2.0//EN
METHOD:PUBLISH
X-PUBLISHED-TTL:P3D
REFRESH-INTERVAL:P3D
CALSCALE:GREGORIAN
BEGIN:VEVENT
DTSTART:20241106T160000Z
DTEND:20241106T164500Z
X-MICROSOFT-CDO-ALLDAYEVENT:FALSE
SUMMARY:Storytime at the Jefferson Public Library
DESCRIPTION:Storytime's goal is to enjoy books\, songs\, and movement while strengthening early literacy skills and consists of songs or rhymes\, movement activities and books read aloud. A short craft follows each session. Best for those aged 2-5 with their caregiver. Held in the Library Meeting Room.
X-ALT-DESC;FMTTYPE=text/html:Storytime&#39\;s goal is to enjoy books\, songs\, and movement while strengthening early literacy skills and consists of songs or rhymes\, movement activities and books read aloud. A short craft follows each session. Best for those aged 2-5 with their caregiver. Held in the Library Meeting Room.
LOCATION:
UID:e.2671.8706
SEQUENCE:3
DTSTAMP:20260423T235701Z
URL:https://business.jeffersonchamberwi.com/events/details/storytime-at-the-jefferson-public-library-11-06-2024-8706
END:VEVENT

END:VCALENDAR
