BEGIN:VCALENDAR
VERSION:2.0
PRODID:-//ChamberMaster//Event Calendar 2.0//EN
METHOD:PUBLISH
X-PUBLISHED-TTL:P3D
REFRESH-INTERVAL:P3D
CALSCALE:GREGORIAN
BEGIN:VEVENT
DTSTART:20221019T150000Z
DTEND:20221019T154500Z
X-MICROSOFT-CDO-ALLDAYEVENT:FALSE
SUMMARY:Storytime at the Jefferson Public Library
DESCRIPTION:Join us for songs\, stories and movement. Storytime occurs from 10-10:45am. Craft time will follow each session. Best for those aged 2-5 with their caregivers.
X-ALT-DESC;FMTTYPE=text/html:Join us for songs\, stories and movement. Storytime occurs from 10-10:45am. Craft time will follow each session. Best for those aged 2-5 with their caregivers.
LOCATION:Jefferson Library 321 S. Main St Jefferson\, WI 53549
UID:e.2671.4874
SEQUENCE:3
DTSTAMP:20260423T202931Z
URL:https://business.jeffersonchamberwi.com/events/details/storytime-at-the-jefferson-public-library-4874
END:VEVENT

END:VCALENDAR
