BEGIN:VCALENDAR
VERSION:2.0
PRODID:-//ChamberMaster//Event Calendar 2.0//EN
METHOD:PUBLISH
X-PUBLISHED-TTL:P3D
REFRESH-INTERVAL:P3D
CALSCALE:GREGORIAN
BEGIN:VEVENT
DTSTART:20250430T150000Z
DTEND:20250430T154500Z
X-MICROSOFT-CDO-ALLDAYEVENT:FALSE
SUMMARY:Storytime @ the Jefferson Public Library
DESCRIPTION:Join us for songs\, stories\, and crafts at the Jefferson Public Library!\n\nOur goal is to enjoy books\, songs\, and movement while strengthening early literacy skills. Each Storytime consists of songs or rhymes\, movement activities\, books read aloud\, and more. Storytime will be held in the Library Meeting Room.\n\nBest for those aged 2-5 with their caregiver.
X-ALT-DESC;FMTTYPE=text/html:<p>Join us for songs\, stories\, and crafts at the Jefferson Public Library!</p>\n\n<p>Our goal is to enjoy books\, songs\, and movement while strengthening early literacy skills. Each Storytime consists of songs or rhymes\, movement activities\, books read aloud\, and more. Storytime will be held in the Library Meeting Room.</p>\n\n<p>Best for those aged 2-5 with their caregiver.</p>\n
LOCATION:
UID:e.2671.8881
SEQUENCE:3
DTSTAMP:20260426T035742Z
URL:https://business.jeffersonchamberwi.com/events/details/storytime-the-jefferson-public-library-04-30-2025-8881
END:VEVENT

END:VCALENDAR
