BEGIN:VCALENDAR
VERSION:2.0
PRODID:-//ChamberMaster//Event Calendar 2.0//EN
METHOD:PUBLISH
X-PUBLISHED-TTL:P3D
REFRESH-INTERVAL:P3D
CALSCALE:GREGORIAN
BEGIN:VEVENT
DTSTART:20240904T150000Z
DTEND:20240904T154500Z
X-MICROSOFT-CDO-ALLDAYEVENT:FALSE
SUMMARY:Storytime @ the Jefferson Public Library
DESCRIPTION:Join the Jefferson Public Library for stories\, songs\, and movement. Craft time will follow each session. Best for those aged 2-5 with their caregivers.\n\nThe Jefferson Public Library is committed to ensuring that our programs and resources are accessible to everyone. To request reasonable accommodations for a program\, please contact the Library at (920) 674-7733 at least 1 week before the program date.
X-ALT-DESC;FMTTYPE=text/html:Join the Jefferson Public Library for stories\, songs\, and movement. Craft time will follow each session. Best for those aged 2-5 with their caregivers.\n<div>\n<p>The Jefferson Public Library is committed to ensuring that our programs and resources are accessible to everyone. To request reasonable accommodations for a program\, please contact the Library at (920) 674-7733 at least 1 week before the program date.</p>\n</div>\n
LOCATION:
UID:e.2671.8433
SEQUENCE:3
DTSTAMP:20260423T204849Z
URL:https://business.jeffersonchamberwi.com/events/details/storytime-the-jefferson-public-library-09-04-2024-8433
END:VEVENT

END:VCALENDAR
