BEGIN:VCALENDAR
VERSION:2.0
PRODID:-//ChamberMaster//Event Calendar 2.0//EN
METHOD:PUBLISH
X-PUBLISHED-TTL:P3D
REFRESH-INTERVAL:P3D
CALSCALE:GREGORIAN
BEGIN:VEVENT
DTSTART:20221130T160000Z
DTEND:20221130T164500Z
X-MICROSOFT-CDO-ALLDAYEVENT:FALSE
SUMMARY:Storytime @ the Jefferson Public Library
DESCRIPTION:Join us for songs\, stories and movement. Craft time will follow each session. Best for those aged 2-5 and their caregivers.
X-ALT-DESC;FMTTYPE=text/html:Join us for songs\, stories and movement. Craft time will follow each session. Best for those aged 2-5 and their caregivers.&nbsp\;
LOCATION:
UID:e.2671.4914
SEQUENCE:3
DTSTAMP:20260423T204849Z
URL:https://business.jeffersonchamberwi.com/events/details/storytime-the-jefferson-public-library-11-30-2022-4914
END:VEVENT

END:VCALENDAR
