BEGIN:VCALENDAR
VERSION:2.0
PRODID:-//ChamberMaster//Event Calendar 2.0//EN
METHOD:PUBLISH
X-PUBLISHED-TTL:P3D
REFRESH-INTERVAL:P3D
CALSCALE:GREGORIAN
BEGIN:VEVENT
DTSTART:20221026T150000Z
DTEND:20221026T154500Z
X-MICROSOFT-CDO-ALLDAYEVENT:FALSE
SUMMARY:Storytime @ the Storywalk!
DESCRIPTION:Meet us at the StoryWalk  for a special Storytime! We will be reading "The Twelve Days of Halloween" with author Leann Schwandt Lehner. The StoryWalk  is located next to Stoppenbach Park on the walking path. You can access the StoryWalk  off of Dewey Ave.
X-ALT-DESC;FMTTYPE=text/html:Meet us at the StoryWalk&reg\; for a special Storytime! We will be reading &ldquo\;The Twelve Days of Halloween&rdquo\; with author Leann Schwandt Lehner. The StoryWalk&reg\; is located next to Stoppenbach Park on the walking path. You can access the StoryWalk&reg\; off of Dewey Ave.
LOCATION:Jefferson Library 321 S. Main St Jefferson\, WI 53549
UID:e.2671.4875
SEQUENCE:3
DTSTAMP:20260423T202803Z
URL:https://business.jeffersonchamberwi.com/events/details/storytime-the-storywalk-4875
END:VEVENT

END:VCALENDAR
