BEGIN:VCALENDAR
VERSION:2.0
PRODID:-//ChamberMaster//Event Calendar 2.0//EN
METHOD:PUBLISH
X-PUBLISHED-TTL:P3D
REFRESH-INTERVAL:P3D
CALSCALE:GREGORIAN
BEGIN:VEVENT
DTSTART:20250718T140000Z
DTEND:20250718T143000Z
X-MICROSOFT-CDO-ALLDAYEVENT:FALSE
SUMMARY:Strollers & Sips with the Jefferson Public Library
DESCRIPTION:Bring your little one(s) and morning caffeine to walk and talk with other parents & caregivers. The group will meet at the trailhead to the Conservancy Walking Path off of S. Dewey Ave.
X-ALT-DESC;FMTTYPE=text/html:Bring your little one(s) and morning caffeine to walk and talk with other parents &amp\; caregivers. The group will meet at the trailhead to the Conservancy Walking Path off of S. Dewey Ave.
LOCATION:
UID:e.2671.8961
SEQUENCE:3
DTSTAMP:20260425T224819Z
URL:https://business.jeffersonchamberwi.com/events/details/strollers-sips-with-the-jefferson-public-library-8961
END:VEVENT

END:VCALENDAR
