BEGIN:VCALENDAR
VERSION:2.0
PRODID:-//ChamberMaster//Event Calendar 2.0//EN
METHOD:PUBLISH
X-PUBLISHED-TTL:P3D
REFRESH-INTERVAL:P3D
CALSCALE:GREGORIAN
BEGIN:VEVENT
DTSTART:20250930T130000Z
DTEND:20250930T170000Z
X-MICROSOFT-CDO-ALLDAYEVENT:FALSE
SUMMARY:Strong Foundations: Fall Risk & Safety Checks
DESCRIPTION:Join us for a FREE community event focused on fall prevention\, safety\, and healthy living. Whether you're an older adult\, caregiver\, family member\, or simply someone who wants to stay steady and safe at home and in the community - you're welcome!\n\n \n\n\n\nTuesday\, September 30th\n\n9:00 AM - 12:00 PM (doors open at 8:00 AM)\n\nFort Atkinson Club - 211 S. Water St. E\, Fort Atkinson\n\n \n\n\n\nWhat you can expect at the event:\n\n- FREE fall risk screenings\n\n- FREE helpful safety checks\n\n- Short talks from local professionals\n\n- Giveaways & free resources\n\n- Community connections that support safer living\n\n- PLUS - Everyone who attends will be entered into a gift basket raffle!\n\n \n\n\n\nWe would love to see you there\, please invite a friend or share this event with someone who may find this beneficial.
X-ALT-DESC;FMTTYPE=text/html:<div>\n<div>Join us for a FREE community event focused on fall prevention\, safety\, and healthy living. Whether you&rsquo\;re an older adult\, caregiver\, family member\, or simply someone who wants to stay steady and safe at home and in the community - you&rsquo\;re welcome!<br />\n&nbsp\;</div>\n</div>\n\n<div>\n<div>Tuesday\, September 30th</div>\n\n<div>9:00 AM - 12:00 PM (doors open at 8:00 AM)</div>\n\n<div>Fort Atkinson Club - 211 S. Water St. E\, Fort Atkinson<br />\n&nbsp\;</div>\n</div>\n\n<div>\n<div>What you can expect at the event:</div>\n\n<div>- FREE fall risk screenings</div>\n\n<div>- FREE helpful safety checks</div>\n\n<div>- Short talks from local professionals</div>\n\n<div>- Giveaways &amp\; free resources</div>\n\n<div>- Community connections that support safer living</div>\n\n<div>- PLUS - Everyone who attends will be entered into a gift basket raffle!<br />\n&nbsp\;</div>\n</div>\n\n<div>\n<div>We would love to see you there\, please invite a friend or share this event with someone who may find this beneficial.</div>\n</div>\n
LOCATION:Fort Atkinson Club - 211 S. Water St. E\, Fort Atkinson
UID:e.2671.9056
SEQUENCE:3
DTSTAMP:20260425T181051Z
URL:https://business.jeffersonchamberwi.com/events/details/strong-foundations-fall-risk-safety-checks-9056
END:VEVENT

END:VCALENDAR
