BEGIN:VCALENDAR
VERSION:2.0
PRODID:-//ChamberMaster//Event Calendar 2.0//EN
METHOD:PUBLISH
X-PUBLISHED-TTL:P3D
REFRESH-INTERVAL:P3D
CALSCALE:GREGORIAN
BEGIN:VEVENT
DTSTART:20210802T180000Z
DTEND:20210827T180000Z
X-MICROSOFT-CDO-ALLDAYEVENT:FALSE
SUMMARY:Summer CA$H CALENDAR Raffle
DESCRIPTION:The Jefferson Chamber of Commerce is pleased to announce our Summer CA$H Calendar! This raffle gives away one cash prize EACH WEEKDAY August 2-27! Winners will be drawn at the Jefferson Chamber of Commerce office (230 S Main St.\, Jefferson\, WI) each day at 1pm.\n\n\n\nWinners will be posted on the Jefferson Chamber of Commerce website and Facebook! The best part is... your name will be re-entered in the drawing so you can KEEP WINNING!\n\n\n\nTickets available for purchase at PremierBank - Badger Bank - Wine & Roses - County City Credit Union - Piggly Wiggly - Jefferson Chamber of Commerce.\n\n\n\nFunds raised support the Jefferson Chamber of Commerce's efforts to build a strong economy & community through local events\, scholarships\, downtown beautification\, etc.  \n\n\n\nWinners have until September 30\, 2021 to collect their winnings from the Jefferson Chamber of Commerce Office\, after which winnings will be forfeited to the Jefferson Chamber of Commerce Community Events Fund.\n\n\n\nAugust 2:  ADRIANE STUEBS\n\n\n\nAugust 3: ALICE PINNOW\n\n\n\nAugust 4: MERRILL BUERGER\n\n\n\n August 5: LELAND HERSRUD\n\n\n\n August 6:  JULIA CHADY\n\n\n\n August 9:  GAIL AUMANN\n\n\n\n August 10:  MARSHA BECKER\n\n \n\n August 11: TRISHA LUND\n\n \n\n August 12: BILL PINNOW \n\n \n\n August 13: CINDY RUSSELL\n\n \n\n August 16:  AMBER FLEMING\n\n \n\n August 17:  KENNETH RANK\n\n \n\n August 18:  MARCUS CZAPLEWSKI\n\n \n\n August 19:  TAYLOR MEWIS \n\n \n\n August 20: JANE RAKOS\n\n \n\n August 23:  ROBERT ROTH\n\n \n\n August 24: WENDY BECKER\n\n \n\n August 25: KIM BUCHHOLZ\n\n \n\n August 26: JOSH LOTZ\n\n \n\n August 27:   GAIL AUMANN
X-ALT-DESC;FMTTYPE=text/html:The Jefferson Chamber of Commerce is pleased to announce our Summer CA$H Calendar! This raffle gives away one cash prize EACH WEEKDAY August 2-27! Winners will be drawn at the Jefferson Chamber of Commerce office (230 S Main St.\, Jefferson\, WI) each day at 1pm.<br />\n<br />\nWinners will be posted on the Jefferson Chamber of Commerce website and Facebook! The best part is... your name will be re-entered in the drawing so you can KEEP WINNING!<br />\n<br />\n<strong>Tickets available for purchase at&nbsp\;<span class="JsGRdQ" style="color: rgb(0\, 0\, 0)\;">PremierBank - Badger Bank - Wine &amp\; Roses</span><span class="JsGRdQ white-space-prewrap" style="color: rgb(0\, 0\, 0)\;">&nbsp\;-&nbsp\;</span><span class="JsGRdQ" style="color: rgb(0\, 0\, 0)\;">County City Credit Union - Piggly Wiggly</span><span class="JsGRdQ white-space-prewrap" style="color: rgb(0\, 0\, 0)\;">&nbsp\;-&nbsp\;</span><span class="JsGRdQ" style="color: rgb(0\, 0\, 0)\;">Jefferson Chamber of Commerce.</span></strong><br />\n<br />\nFunds raised support the Jefferson Chamber of Commerce&#39\;s efforts to build a strong economy &amp\; community through local events\, scholarships\, downtown beautification\, etc.&nbsp\;&nbsp\;<br />\n<br />\nWinners have until September 30\, 2021 to collect their winnings from the Jefferson Chamber of Commerce Office\, after which winnings will be forfeited to the Jefferson Chamber of Commerce Community Events Fund.<br />\n<br />\nAugust 2:&nbsp\; ADRIANE STUEBS<br />\n<br />\nAugust 3: ALICE PINNOW<br />\n<br />\nAugust 4: MERRILL BUERGER<br />\n<br />\n&#8203\;August 5: LELAND HERSRUD<br />\n<br />\n&#8203\;August 6:&nbsp\; JULIA CHADY<br />\n<br />\n&#8203\;August 9:&nbsp\; GAIL AUMANN<br />\n<br />\n&#8203\;August 10:&nbsp\; MARSHA BECKER<br />\n&#8203\;<br />\n&#8203\;August 11: TRISHA LUND<br />\n&#8203\;<br />\n&#8203\;August 12: BILL PINNOW&nbsp\;<br />\n&#8203\;<br />\n&#8203\;August 13: CINDY RUSSELL<br />\n&#8203\;<br />\n&#8203\;August 16:&nbsp\; AMBER FLEMING<br />\n&#8203\;<br />\n&#8203\;August 17:&nbsp\; KENNETH RANK<br />\n&#8203\;<br />\n&#8203\;August 18:&nbsp\; MARCUS CZAPLEWSKI<br />\n&#8203\;<br />\n&#8203\;August 19:&nbsp\; TAYLOR MEWIS&nbsp\;<br />\n&#8203\;<br />\n&#8203\;August 20: JANE RAKOS<br />\n&#8203\;<br />\n&#8203\;August 23:&nbsp\; ROBERT ROTH<br />\n&#8203\;<br />\n&#8203\;August 24: WENDY BECKER<br />\n&#8203\;<br />\n&#8203\;August 25: KIM BUCHHOLZ<br />\n&#8203\;<br />\n&#8203\;August 26: JOSH LOTZ<br />\n&#8203\;<br />\n&#8203\;August 27:&#8203\;&nbsp\; GAIL AUMANN
LOCATION:
UID:e.2671.4245
SEQUENCE:3
DTSTAMP:20260424T165719Z
URL:https://business.jeffersonchamberwi.com/events/details/summer-ca-h-calendar-raffle-4245
END:VEVENT

END:VCALENDAR
