BEGIN:VCALENDAR
VERSION:2.0
PRODID:-//ChamberMaster//Event Calendar 2.0//EN
METHOD:PUBLISH
X-PUBLISHED-TTL:P3D
REFRESH-INTERVAL:P3D
CALSCALE:GREGORIAN
BEGIN:VEVENT
DTSTART:20250606T190000Z
DTEND:20250606T203000Z
X-MICROSOFT-CDO-ALLDAYEVENT:FALSE
SUMMARY:Summer Library Kickoff
DESCRIPTION:Kick off the summer with the Jefferson Public Library at Rotary Park! There will be all kinds of fun things to do\, such as: *Face Painting *Ice Cream Sundae Bar *LEGOs *Giant Connect 4 *Bubbles and more! Sign up for the Summer Library Program will also be available. We can't wait to kick off the summer with you!
X-ALT-DESC;FMTTYPE=text/html:Kick off the summer with the Jefferson Public Library at Rotary Park! There will be all kinds of fun things to do\, such as: *Face Painting *Ice Cream Sundae Bar *LEGOs *Giant Connect 4 *Bubbles and more! Sign up for the Summer Library Program will also be available. We can&#39\;t wait to kick off the summer with you!
LOCATION:
UID:e.2671.8945
SEQUENCE:3
DTSTAMP:20260425T234837Z
URL:https://business.jeffersonchamberwi.com/events/details/summer-library-kickoff-8945
END:VEVENT

END:VCALENDAR
