BEGIN:VCALENDAR
VERSION:2.0
PRODID:-//ChamberMaster//Event Calendar 2.0//EN
METHOD:PUBLISH
X-PUBLISHED-TTL:P3D
REFRESH-INTERVAL:P3D
CALSCALE:GREGORIAN
BEGIN:VEVENT
DTSTART:20240717T150000Z
DTEND:20240717T150000Z
X-MICROSOFT-CDO-ALLDAYEVENT:FALSE
SUMMARY:Summer Storytime @ the Jefferson Public Library
DESCRIPTION:Join the Jefferson Public Library for songs\, stories\, and crafts!\n\nBest for those aged 2-5 with their caregiver.\n\n \n\nOur goal is to enjoy books\, songs\, and movement while strengthening early literacy skills. Each Storytime consists of songs or rhymes\, movement activities\, books read aloud\, and more. Storytime will be held in the Library Meeting Room.
X-ALT-DESC;FMTTYPE=text/html:<div>Join the Jefferson Public Library for songs\, stories\, and crafts!<br />\nBest for those aged 2-5 with their caregiver.</div>\n\n<div>&nbsp\;</div>\n\n<div>Our goal is to enjoy books\, songs\, and movement while strengthening early literacy skills. Each Storytime consists of songs or rhymes\, movement activities\, books read aloud\, and more. Storytime will be held in the Library Meeting Room.</div>\n
LOCATION:
UID:e.2671.7251
SEQUENCE:3
DTSTAMP:20260423T174624Z
URL:https://business.jeffersonchamberwi.com/events/details/summer-storytime-the-jefferson-public-library-7251
END:VEVENT

END:VCALENDAR
