BEGIN:VCALENDAR
VERSION:2.0
PRODID:-//ChamberMaster//Event Calendar 2.0//EN
METHOD:PUBLISH
X-PUBLISHED-TTL:P3D
REFRESH-INTERVAL:P3D
CALSCALE:GREGORIAN
BEGIN:VEVENT
DTSTART:20230212T190000Z
DTEND:20230212T220000Z
X-MICROSOFT-CDO-ALLDAYEVENT:FALSE
SUMMARY:Super Bowl Raffle Grand Prize
DESCRIPTION:Super Bowl Raffle\n\nGrand Prize - $2\,500.00
X-ALT-DESC;FMTTYPE=text/html:Super Bowl Raffle<br />\nGrand Prize - $2\,500.00
LOCATION:The Wayside Inn W4820 Hwy 18 Jefferson
UID:e.2671.4961
SEQUENCE:3
DTSTAMP:20260423T161002Z
URL:https://business.jeffersonchamberwi.com/events/details/super-bowl-raffle-grand-prize-4961
END:VEVENT

END:VCALENDAR
