BEGIN:VCALENDAR
VERSION:2.0
PRODID:-//ChamberMaster//Event Calendar 2.0//EN
METHOD:PUBLISH
X-PUBLISHED-TTL:P3D
REFRESH-INTERVAL:P3D
CALSCALE:GREGORIAN
BEGIN:VEVENT
DTSTART:20221020T123000Z
DTEND:20221020T220000Z
X-MICROSOFT-CDO-ALLDAYEVENT:FALSE
SUMMARY:Teacher Appreciation Day-Jefferson Dream Nutrition
DESCRIPTION:Teacher Appreciation Day! Jefferson Dream Nutrition\n\nTeachers will receive one free drink(Energy or Hydration)\n\n(Must have valid ID)
X-ALT-DESC;FMTTYPE=text/html:<div dir="auto" style="border: 0px\; font-variant-numeric: inherit\; font-variant-east-asian: inherit\; font-stretch: inherit\; font-size: 15px\; line-height: inherit\; font-family: &quot\;Segoe UI&quot\;\, &quot\;Segoe UI Web (West European)&quot\;\, &quot\;Segoe UI&quot\;\, -apple-system\, BlinkMacSystemFont\, Roboto\, &quot\;Helvetica Neue&quot\;\, sans-serif\; margin: 0px\; padding: 0px\; vertical-align: baseline\; color: rgb(36\, 36\, 36)\;">Teacher Appreciation Day! Jefferson Dream Nutrition<br />\nTeachers will receive one free drink(Energy or Hydration)</div>\n\n<div dir="auto" style="border: 0px\; font-variant-numeric: inherit\; font-variant-east-asian: inherit\; font-stretch: inherit\; font-size: 15px\; line-height: inherit\; font-family: &quot\;Segoe UI&quot\;\, &quot\;Segoe UI Web (West European)&quot\;\, &quot\;Segoe UI&quot\;\, -apple-system\, BlinkMacSystemFont\, Roboto\, &quot\;Helvetica Neue&quot\;\, sans-serif\; margin: 0px\; padding: 0px\; vertical-align: baseline\; color: rgb(36\, 36\, 36)\;">(Must have valid ID)</div>\n
LOCATION:Jefferson Dream Nutrition 1031 S. Main Street Jefferson\, WI 53549
UID:e.2671.4903
SEQUENCE:3
DTSTAMP:20260423T222556Z
URL:https://business.jeffersonchamberwi.com/events/details/teacher-appreciation-day-jefferson-dream-nutrition-4903
END:VEVENT

END:VCALENDAR
