BEGIN:VCALENDAR
VERSION:2.0
PRODID:-//ChamberMaster//Event Calendar 2.0//EN
METHOD:PUBLISH
X-PUBLISHED-TTL:P3D
REFRESH-INTERVAL:P3D
CALSCALE:GREGORIAN
BEGIN:VEVENT
DTSTART:20221030T190000Z
DTEND:20221030T210000Z
X-MICROSOFT-CDO-ALLDAYEVENT:FALSE
SUMMARY:Trunk or Treat
DESCRIPTION:With Halloween soon approaching\, we wanted to invite YOU to join us for a our Trunk or Treat event! Trunk or Treat will take place on Sunday\, October 30th from 2:00PM - 4:00PM in the JMC parking lot. We will have warm drinks\, candy\, prizes\, 50/50 drawing\, and live music! For your chance to win a grand prize\, please decorate your trunk and or the outside of your vehicle. If you are interested in joining us for a fun afternoon\, please email our Life Enrichment Coordinator at ejones@jeffersonmemorycare.com or by phone at (920) 541-3520. We are planning on having a big turn out\, so please RSVP as soon as possible!
X-ALT-DESC;FMTTYPE=text/html:With Halloween soon approaching\, we wanted to invite YOU to join us for a our Trunk or Treat event! Trunk or Treat will take place on Sunday\, October 30th from 2:00PM - 4:00PM in the JMC parking lot. We will have warm drinks\, candy\, prizes\, 50/50 drawing\, and live music! For your chance to win a grand prize\, please decorate your trunk and or the outside of your vehicle. If you are interested in joining us for a fun afternoon\, please email our Life Enrichment Coordinator at ejones@jeffersonmemorycare.com or by phone at (920) 541-3520. We are planning on having a big turn out\, so please RSVP as soon as possible!
LOCATION:Jefferson Memory Care 414 County Road Y\, Jefferson\, WI 53549
UID:e.2671.4861
SEQUENCE:3
DTSTAMP:20260423T202750Z
URL:https://business.jeffersonchamberwi.com/events/details/trunk-or-treat-4861
END:VEVENT

END:VCALENDAR
