BEGIN:VCALENDAR
VERSION:2.0
PRODID:-//ChamberMaster//Event Calendar 2.0//EN
METHOD:PUBLISH
X-PUBLISHED-TTL:P3D
REFRESH-INTERVAL:P3D
CALSCALE:GREGORIAN
BEGIN:VEVENT
DTSTART:20221022T230000Z
DTEND:20221023T013000Z
X-MICROSOFT-CDO-ALLDAYEVENT:FALSE
SUMMARY:Trunk or Treat- Ixonia
DESCRIPTION:Trunk or Treat Ixonia\n\nC&V Machine Co\, Inc / Electro dj's
X-ALT-DESC;FMTTYPE=text/html:Trunk or Treat Ixonia<br />\nC&amp\;V Machine Co\, Inc / Electro dj&#39\;s
LOCATION:N8100 Industrial Drive Ixonia\, Wi 53036
UID:e.2671.4893
SEQUENCE:3
DTSTAMP:20260423T202914Z
URL:https://business.jeffersonchamberwi.com/events/details/trunk-or-treat-ixonia-4893
END:VEVENT

END:VCALENDAR
