BEGIN:VCALENDAR
VERSION:2.0
PRODID:-//ChamberMaster//Event Calendar 2.0//EN
METHOD:PUBLISH
X-PUBLISHED-TTL:P3D
REFRESH-INTERVAL:P3D
CALSCALE:GREGORIAN
BEGIN:VEVENT
DTSTART:20231114T000000Z
DTEND:20231114T010000Z
X-MICROSOFT-CDO-ALLDAYEVENT:FALSE
SUMMARY:Ukulele Strum Along at the Jefferson Public Library
DESCRIPTION:Ukulele Strum Along at the Jefferson Public Library\n\n\n\nBYOU (Bring Your Own Uke)! If you don't have one\, don't worry\, the library will have a few to play with.\n\nWhether you are an old hand at Ukulele or have just started\, you're welcome to join in on our group strum-along! No Registration Required. For ages 17 and up. Held in the Library Meeting Room.
X-ALT-DESC;FMTTYPE=text/html:<p>Ukulele Strum Along at the Jefferson Public Library<br />\n<br />\nBYOU (Bring Your Own Uke)! If you don&#39\;t have one\, don&#39\;t worry\, the library will have a few to play with.<br />\n<span style="color:rgb(0\, 0\, 0)">Whether you are an old hand at Ukulele or have just started\, you&rsquo\;re welcome to join in on our group strum-along! No Registration Required. For ages 17 and up. Held in the Library Meeting Room.</span></p>\n
LOCATION:
UID:e.2671.6490
SEQUENCE:3
DTSTAMP:20260426T030413Z
URL:https://business.jeffersonchamberwi.com/events/details/ukulele-strum-along-6490
END:VEVENT

END:VCALENDAR
