BEGIN:VCALENDAR
VERSION:2.0
PRODID:-//ChamberMaster//Event Calendar 2.0//EN
METHOD:PUBLISH
X-PUBLISHED-TTL:P3D
REFRESH-INTERVAL:P3D
CALSCALE:GREGORIAN
BEGIN:VEVENT
DTSTART:20210214T220000Z
DTEND:20210215T040000Z
X-MICROSOFT-CDO-ALLDAYEVENT:FALSE
SUMMARY:Valentine's Day Dinner at RiverStone Premier
DESCRIPTION:Celebrate Valentine's Day with a special dining experience at RiverStone Premier! With their Valentine's Day special menu\, you'll be in great hands! Reserve your table today! https://riverstonepremier.com/ft-atkinson-restaurant/\n\n\n\nMenu: \n\nGrilled Filet w/Sundried Tomato Herb Butter\, with grilled asparagus and garlic parmesan mashed potatoes\n\n\n\nScottish Salmon on a Bed of Wild Rice\, with garlic green beans and a tarragon butter sauce\n\n\n\nChicken Saltimbocca\, stuffed with prosciutto\, spinach and boursin cheese\, with roasted potatoes and grilled asparagus\n\n\n\nScallops A'Moscato\, seared scallops over linguini noodles with a moscato cream sauce\n\n\n\nTwin Lobster Tails\, with a lemon saffron sauce\, creamy risotto and roasted asparagus
X-ALT-DESC;FMTTYPE=text/html:Celebrate Valentine&#39\;s Day with a special dining experience at RiverStone Premier! With their Valentine&#39\;s Day special menu\, you&#39\;ll be in great hands! Reserve your table today!&nbsp\;https://riverstonepremier.com/ft-atkinson-restaurant/<br />\n<br />\n<u>Menu:&nbsp\;</u><br />\nGrilled Filet w/Sundried Tomato Herb Butter\, with grilled asparagus and garlic parmesan mashed potatoes<br />\n<br />\nScottish Salmon on a Bed of Wild Rice\, with garlic green beans and a tarragon butter sauce<br />\n<br />\nChicken Saltimbocca\, stuffed with prosciutto\, spinach and boursin cheese\, with roasted potatoes and grilled asparagus<br />\n<br />\nScallops A&#39\;Moscato\, seared scallops over linguini noodles with a moscato cream sauce<br />\n<br />\nTwin Lobster Tails\, with a lemon saffron sauce\, creamy risotto and roasted asparagus<br />\n<br />\n&nbsp\;
LOCATION:RiverStone Premier 1905 Central Coast\, Fort Atkinson\, WI\, 53538
UID:e.2671.4205
SEQUENCE:3
DTSTAMP:20260425T014444Z
URL:https://business.jeffersonchamberwi.com/events/details/valentine-s-day-dinner-at-riverstone-premier-4205
END:VEVENT

END:VCALENDAR
