BEGIN:VCALENDAR
VERSION:2.0
PRODID:-//ChamberMaster//Event Calendar 2.0//EN
METHOD:PUBLISH
X-PUBLISHED-TTL:P3D
REFRESH-INTERVAL:P3D
CALSCALE:GREGORIAN
BEGIN:VEVENT
DTSTART:20251213T150000Z
DTEND:20251213T170000Z
X-MICROSOFT-CDO-ALLDAYEVENT:FALSE
SUMMARY:Visit Santa and Mrs. Claus
DESCRIPTION:Santa and Mrs. Claus will be visiting and each  child will receive a festive gift bag.  Enjoy warm treats and holiday cheer.
X-ALT-DESC;FMTTYPE=text/html:Santa and Mrs. Claus will be visiting and each&nbsp\; child will receive a festive gift bag.&nbsp\; Enjoy warm treats and holiday cheer.&nbsp\;&nbsp\;
LOCATION:
UID:e.2671.9119
SEQUENCE:3
DTSTAMP:20260425T134127Z
URL:https://business.jeffersonchamberwi.com/events/details/visit-santa-and-mrs-claus-9119
END:VEVENT

END:VCALENDAR
