BEGIN:VCALENDAR
VERSION:2.0
PRODID:-//ChamberMaster//Event Calendar 2.0//EN
METHOD:PUBLISH
X-PUBLISHED-TTL:P3D
REFRESH-INTERVAL:P3D
CALSCALE:GREGORIAN
BEGIN:VEVENT
DTSTART:20230116T163000Z
DTEND:20230116T173000Z
X-MICROSOFT-CDO-ALLDAYEVENT:FALSE
SUMMARY:Wackadoo Days! at the Jefferson Public Library
DESCRIPTION:Play fun Bluey-inspired games\, make fun crafts\, have a snack\, and hear a story. Families are welcome! Pre-registration is encouraged. Call the Library at (920) 674-7733 to register. All ages.
X-ALT-DESC;FMTTYPE=text/html:Play fun Bluey-inspired games\, make fun crafts\, have a snack\, and hear a story. Families are welcome! Pre-registration is encouraged. Call the Library at (920) 674-7733 to register. All ages.
LOCATION:
UID:e.2671.5030
SEQUENCE:3
DTSTAMP:20260423T161638Z
URL:https://business.jeffersonchamberwi.com/events/details/wackadoo-days-at-the-jefferson-public-library-5030
END:VEVENT

END:VCALENDAR
