BEGIN:VCALENDAR
VERSION:2.0
PRODID:-//ChamberMaster//Event Calendar 2.0//EN
METHOD:PUBLISH
X-PUBLISHED-TTL:P3D
REFRESH-INTERVAL:P3D
CALSCALE:GREGORIAN
BEGIN:VEVENT
DTSTART:20220914T180000Z
DTEND:20220914T210000Z
X-MICROSOFT-CDO-ALLDAYEVENT:FALSE
SUMMARY:Watertown Job Fair
DESCRIPTION:Job Service is proud to announce we will be holding our first ever job fair at the newly remodeled Watertown Public Library!\n\n\n\nThis event will be held in the new Community Room at the Watertown Public Library. We are utilizing both radio and social media contracted marketing to help promote this event\, along with Eblasts to registered job seekers on Job Center of Wisconsin. Space is limited\, so register early!
X-ALT-DESC;FMTTYPE=text/html:<span style="font-size:12px\;">Job Service is proud to announce we will be holding our first ever job fair at the newly remodeled Watertown Public Library!<br />\n<br />\nThis event will be held in the new Community Room at the Watertown Public Library. We are utilizing both radio and social media contracted marketing to help promote this event\, along with Eblasts to registered job seekers on Job Center of Wisconsin. <strong><em>Space is limited\, so register early!</em></strong></span>
LOCATION:Watertown Public Library\, 100 S. Water Street\, Watertown\, WI
UID:e.2671.4810
SEQUENCE:3
DTSTAMP:20260423T233622Z
URL:https://business.jeffersonchamberwi.com/events/details/watertown-job-fair-4810
END:VEVENT

END:VCALENDAR
