BEGIN:VCALENDAR
VERSION:2.0
PRODID:-//ChamberMaster//Event Calendar 2.0//EN
METHOD:PUBLISH
X-PUBLISHED-TTL:P3D
REFRESH-INTERVAL:P3D
CALSCALE:GREGORIAN
BEGIN:VEVENT
DTSTART:20230226T170000Z
DTEND:20230228T010000Z
X-MICROSOFT-CDO-ALLDAYEVENT:FALSE
SUMMARY:Wedl’s Hiring Event
DESCRIPTION:Wedl's Hiring Event Onsite interviews 2-day hiring event 2/26 (11:00-3:00 pm) 2/27 (3:00-7:00pm) Crew Members starting $10/hr Ages 14+ Closers starting $12/hr Ages 16+ Managers Ages 18+ starting $17/hr (weeknights) $19.50 (weekends)
X-ALT-DESC;FMTTYPE=text/html:Wedl&rsquo\;s Hiring Event Onsite interviews 2-day hiring event 2/26 (11:00-3:00 pm) 2/27 (3:00-7:00pm) Crew Members starting $10/hr Ages 14+ Closers starting $12/hr Ages 16+ Managers Ages 18+ starting $17/hr (weeknights) $19.50 (weekends)
LOCATION:200 E. Racine St. Jefferson\, WI
UID:e.2671.5047
SEQUENCE:3
DTSTAMP:20260423T142845Z
URL:https://business.jeffersonchamberwi.com/events/details/wedl-s-hiring-event-5047
END:VEVENT

END:VCALENDAR
