BEGIN:VCALENDAR
VERSION:2.0
PRODID:-//ChamberMaster//Event Calendar 2.0//EN
METHOD:PUBLISH
X-PUBLISHED-TTL:P3D
REFRESH-INTERVAL:P3D
CALSCALE:GREGORIAN
BEGIN:VEVENT
DTSTART:20221006T230000Z
DTEND:20221007T003000Z
X-MICROSOFT-CDO-ALLDAYEVENT:FALSE
SUMMARY:Wine Glass Painting Class at Stable Rock Winery
DESCRIPTION:Join us for a night of wine glass painting!!\n\nBring your friends and have some wine and food while painting one of our fall designs or bring your own design and we can help you with that too!! $20 per glass.  \n\nSign up on our facebook page!
X-ALT-DESC;FMTTYPE=text/html:<p>Join us for a night of wine glass painting!!<br />\nBring your friends and have some wine and food while painting one of our fall designs or bring your own design and we can help you with that too!! $20 per glass. &nbsp\;<br />\nSign up on our facebook page!</p>\n\n<p>&nbsp\;</p>\n\n<p>&nbsp\;</p>\n\n<p>&nbsp\;</p>\n
LOCATION:Stable Rock 123 West Milwaukee St\, Jefferson
UID:e.2671.4863
SEQUENCE:3
DTSTAMP:20260423T202937Z
URL:https://business.jeffersonchamberwi.com/events/details/wine-glass-painting-class-at-stable-rock-winery-4863
END:VEVENT

END:VCALENDAR
