BEGIN:VCALENDAR
VERSION:2.0
PRODID:-//ChamberMaster//Event Calendar 2.0//EN
METHOD:PUBLISH
X-PUBLISHED-TTL:P3D
REFRESH-INTERVAL:P3D
CALSCALE:GREGORIAN
BEGIN:VEVENT
DTSTART:20221022T150000Z
DTEND:20221022T210000Z
X-MICROSOFT-CDO-ALLDAYEVENT:FALSE
SUMMARY:Wine & Roses Grand Opening Sale and Wine Tasting
DESCRIPTION:Join us for a wine tasting on Saturday and stay for live music by The Swing Crew from 1:00 to 4:00.
X-ALT-DESC;FMTTYPE=text/html:Join us for a wine tasting on Saturday and stay for live music by The Swing Crew from 1:00 to 4:00.
LOCATION:116 E Milwaukee St. Jefferson\, WI 53549
UID:e.2671.4905
SEQUENCE:3
DTSTAMP:20260423T203117Z
URL:https://business.jeffersonchamberwi.com/events/details/wine-roses-grand-opening-sale-and-wine-tasting-4905
END:VEVENT

END:VCALENDAR
