BEGIN:VCALENDAR
VERSION:2.0
PRODID:-//ChamberMaster//Event Calendar 2.0//EN
METHOD:PUBLISH
X-PUBLISHED-TTL:P3D
REFRESH-INTERVAL:P3D
CALSCALE:GREGORIAN
BEGIN:VEVENT
DTSTART:20221012T230000Z
DTEND:20221013T000000Z
X-MICROSOFT-CDO-ALLDAYEVENT:FALSE
SUMMARY:Winemaker’s Wine & Charcuterie Tasting for Tomorrow’s Hope
DESCRIPTION:When you learn the science behind wine tasting and food pairing\, every meal going forward will be improved! A fun way to learn the science is using your own tastebuds! In this class\, you'll have three wines with a charcuterie board: salami\, cheese\, crackers\, olives\, nuts and grapes  PLUS A BONUS: German Eiswein Tasting.. and a chance to WIN a bottle of wine! and BEST OF ALL.. it's for a GREAT CAUSE! $45 pp - $15 of every ticket will be donated to Tomorrow's Hope.\n\n\n\nThe Mission:  To foster health-related research\, education and support activities that have a direct impact on individuals in our local health care service area touched by Alzheimer's\, cancer\, diabetes\, heart disease\, and other life-limiting illnesses.\n\n\n\nTomorrow's Hope is a 100% volunteer based nonprofit charity organization based in Jefferson supporting Jefferson County and it's surrounding communities.  We work with individuals and families affected by life-limiting illnesses and local health services that supports them to seek out unmet needs related to healthcare within the local communities we support\; we help enhance their programs and services while also create our own internal programs to address unmet local needs.\n\n\n\nFunds raised at the Stable Rock Winery & Distillery\; Wine\, and Charcuterie event\, will go towards the development of our new Cancer Care Packages project.  These care packages will be full of product and resources that will assist the newly diagnosed individuals through their battle.  Through collaboration with local health services\, cancer warriors\, survivors\, and their loved ones\; these included products and resources were identified as items that were or would have been helpful in battling against cancer.\n\n\n\nPlease see follow us on Facebook & Instagram for updates.\n\nPlease see our website at TomorrowsHope.Org for more information.
X-ALT-DESC;FMTTYPE=text/html:When you learn the science behind wine tasting and food pairing\, every meal going forward will be improved! A fun way to learn the science is using your own tastebuds! In this class\, you&#39\;ll have three wines with a charcuterie board: salami\, cheese\, crackers\, olives\, nuts and grapes&hellip\; PLUS A BONUS: German Eiswein Tasting.. and a chance to WIN a bottle of wine! and BEST OF ALL.. it&rsquo\;s for a GREAT CAUSE! $45 pp - $15 of every ticket will be donated to Tomorrow&#39\;s Hope.<br />\n<br />\nThe Mission: &nbsp\;To foster health-related research\, education and support activities that have a direct impact on individuals in our local health care service area touched by Alzheimer&rsquo\;s\, cancer\, diabetes\, heart disease\, and other life-limiting illnesses.<br />\n<br />\nTomorrow&rsquo\;s Hope is a 100% volunteer based nonprofit charity organization based in Jefferson supporting Jefferson County and it&rsquo\;s surrounding communities. &nbsp\;We work with individuals and families affected by life-limiting illnesses and local health services that supports them to seek out unmet needs related to healthcare within the local communities we support\; we help enhance their programs and services while also create our own internal programs to address unmet local needs.<br />\n<br />\nFunds raised at the Stable Rock Winery &amp\; Distillery\; Wine\, and Charcuterie event\, will go towards the development of our new Cancer Care Packages project. &nbsp\;These care packages will be full of product and resources that will assist the newly diagnosed individuals through their battle. &nbsp\;Through collaboration with local health services\, cancer warriors\, survivors\, and their loved ones\; these included products and resources were identified as items that were or would have been helpful in battling against cancer.<br />\n<br />\nPlease see follow us on Facebook &amp\; Instagram for updates.<br />\nPlease see our website at TomorrowsHope.Org for more information.
LOCATION:Stable Rock Winery 123 W Milwaukee St Jefferson\, WI 53549
UID:e.2671.4866
SEQUENCE:3
DTSTAMP:20260423T202914Z
URL:https://business.jeffersonchamberwi.com/events/details/winemaker-s-wine-charcuterie-tasting-for-tomorrow-s-hope-4866
END:VEVENT

END:VCALENDAR
